BEGIN:VCALENDAR
VERSION:2.0
PRODID:-//ECHO - ECPv6.15.20//NONSGML v1.0//EN
CALSCALE:GREGORIAN
METHOD:PUBLISH
X-WR-CALNAME:ECHO
X-ORIGINAL-URL:https://echochildren.org
X-WR-CALDESC:Events for ECHO
REFRESH-INTERVAL;VALUE=DURATION:PT1H
X-Robots-Tag:noindex
X-PUBLISHED-TTL:PT1H
BEGIN:VTIMEZONE
TZID:America/New_York
BEGIN:DAYLIGHT
TZOFFSETFROM:-0500
TZOFFSETTO:-0400
TZNAME:EDT
DTSTART:20210314T070000
END:DAYLIGHT
BEGIN:STANDARD
TZOFFSETFROM:-0400
TZOFFSETTO:-0500
TZNAME:EST
DTSTART:20211107T060000
END:STANDARD
BEGIN:DAYLIGHT
TZOFFSETFROM:-0500
TZOFFSETTO:-0400
TZNAME:EDT
DTSTART:20220313T070000
END:DAYLIGHT
BEGIN:STANDARD
TZOFFSETFROM:-0400
TZOFFSETTO:-0500
TZNAME:EST
DTSTART:20221106T060000
END:STANDARD
BEGIN:DAYLIGHT
TZOFFSETFROM:-0500
TZOFFSETTO:-0400
TZNAME:EDT
DTSTART:20230312T070000
END:DAYLIGHT
BEGIN:STANDARD
TZOFFSETFROM:-0400
TZOFFSETTO:-0500
TZNAME:EST
DTSTART:20231105T060000
END:STANDARD
END:VTIMEZONE
BEGIN:VEVENT
DTSTART;TZID=America/New_York:20221214T130000
DTEND;TZID=America/New_York:20221214T140000
DTSTAMP:20260421T164149
CREATED:20221201T150504Z
LAST-MODIFIED:20230614T185749Z
UID:9175-1671022800-1671026400@echochildren.org
SUMMARY:Katherine Sauder: Supporting Healthy Children by Supporting Healthy Pregnancies: A Prebirth Nutrition Perspective
DESCRIPTION:Katherine Sauder: Supporting Healthy Children by Supporting Healthy Pregnancies: A Prebirth Nutrition Perspective \nDiscovery Summary\nKey Takeaways: \n\nIn recent years\, there has been a rise in obesity and type 2 diabetes cases among children at increasingly younger ages\, indicating that factors during early infancy – and even during pregnancy and pre-conception – may play a role in the development of these conditions.\nMaternal nutrition can influence the risk of neonatal adiposity\, which is a predictor for overweight/obesity at 5 years.\nIn developed countries\, a common prenatal risk factor is excessive intake of certain vitamins due to fortified foods and use of dietary supplements. Pregnant people in ECHO Cohorts were at risk for excessive intake of zinc\, folic acid\, and iron.\nPrograms that can help pregnant people eat well before and during pregnancy may improve infant health outcomes.\n\n \nSpeaker: \nKatherine Sauder\, PhD \nLifecourse Epidemiology of Adiposity and Diabetes (LEAD) Center\nColorado Denver Anschutz Medical Campus \n  \nSpeaker Bio: \nDr. Sauder received her PhD in biobehavioral Health from Penn State University in 2014 and completed her post-doctoral fellowship in Nutrition at the University of Colorado in 2016. She is now an ECHO Cohort Investigator (Dabelea Cohort)\, Associate Professor of Pediatrics in the Section of Nutrition\, and Deputy Director of the Lifecourse Epidemiology of Adiposity and Diabetes (LEAD) Center at the University of Colorado Denver Anschutz Medical Campus. \nDate: Wednesday\, December 14th\, 1 to 2pm ET \nSlides
URL:https://echochildren.org/event/sauder-from-food-to-fat-how-maternal-diet-in-pregnancy-is-associated-with-offspring-obesity-risks/
END:VEVENT
END:VCALENDAR