BEGIN:VCALENDAR
VERSION:2.0
PRODID:-//ECHO - ECPv6.15.20//NONSGML v1.0//EN
CALSCALE:GREGORIAN
METHOD:PUBLISH
X-WR-CALNAME:ECHO
X-ORIGINAL-URL:https://echochildren.org
X-WR-CALDESC:Events for ECHO
REFRESH-INTERVAL;VALUE=DURATION:PT1H
X-Robots-Tag:noindex
X-PUBLISHED-TTL:PT1H
BEGIN:VTIMEZONE
TZID:America/New_York
BEGIN:DAYLIGHT
TZOFFSETFROM:-0500
TZOFFSETTO:-0400
TZNAME:EDT
DTSTART:20210314T070000
END:DAYLIGHT
BEGIN:STANDARD
TZOFFSETFROM:-0400
TZOFFSETTO:-0500
TZNAME:EST
DTSTART:20211107T060000
END:STANDARD
BEGIN:DAYLIGHT
TZOFFSETFROM:-0500
TZOFFSETTO:-0400
TZNAME:EDT
DTSTART:20220313T070000
END:DAYLIGHT
BEGIN:STANDARD
TZOFFSETFROM:-0400
TZOFFSETTO:-0500
TZNAME:EST
DTSTART:20221106T060000
END:STANDARD
BEGIN:DAYLIGHT
TZOFFSETFROM:-0500
TZOFFSETTO:-0400
TZNAME:EDT
DTSTART:20230312T070000
END:DAYLIGHT
BEGIN:STANDARD
TZOFFSETFROM:-0400
TZOFFSETTO:-0500
TZNAME:EST
DTSTART:20231105T060000
END:STANDARD
END:VTIMEZONE
BEGIN:VEVENT
DTSTART;TZID=America/New_York:20220914T130000
DTEND;TZID=America/New_York:20220914T140000
DTSTAMP:20260421T082605
CREATED:20220803T193037Z
LAST-MODIFIED:20220926T185022Z
UID:8529-1663160400-1663164000@echochildren.org
SUMMARY:Braun/Boyle: Developmental Exposure to PFAS and Childhood/Adolescent Obesity and Cardiometabolic Risk
DESCRIPTION:Braun/Boyle: Developmental Exposure to PFAS and Childhood/Adolescent Obesity and Cardiometabolic Risk\nDiscovery Summary\nKey Takeaways: \n\nPFAS are long-lasting chemicals found in some consumer products—like certain types of packaging and cookware—that can contaminate food\, water\, and air.\nVirtually all Americans have detectable levels of these substances in their blood with over 100 million Americans having levels above the Environmental Protection Agency’s (EPA) current advised limit.\nEmerging evidence from ECHO research suggests that prenatal exposure to PFAS may increase a child’s long-term risk for developing obesity and related health conditions.\nGoing forward\, these results can help to inform ongoing and future regulatory efforts aimed at defining exposure limits and safe drinking water standards.\n\n  \nSpeakers: \nJoseph Braun\, PhD\, MSPH\, RN \nBrown University\, Providence\, RI \n  \n  \n  \n  \nSpeaker Bio: Dr. Joseph Braun is an environmental epidemiologist and studies endocrine disrupting chemicals\, toxic metals\, obesity\, cardiometabolic health\, and pediatric neurodevelopmental disorders. Working with biostatisticians\, exposure scientists\, physicians\, and engineers\, he studies the health effects of environmental chemical mixtures to identify periods of heightened susceptibility in order to design interventions aimed at reducing exposure. Moreover\, Dr. Braun is using untargeted metabolomics and DNA methylation to understand biological pathways underlying the potential effect of chemical exposures. \n  \n \nKristen E. Boyle\, PhD \nUniversity of Colorado\, Anschutz Medical Campus \n  \n  \n  \n  \nSpeaker Bio: Dr. Kristen Boyle is an Associate Professor in the Department of Pediatrics Nutrition Section at the University of Colorado Anschutz Medical Campus and the Co-Director of the Basic Sciences Research Core at the Colorado Lifecourse Epidemiology of Adiposity & Diabetes (LEAD) Center. Dr. Boyle’s research program focuses on understanding how various gestational stress exposures\, from metabolic disease to environmental toxins\, may impact offspring obesity and diabetes risk using mesenchymal stem cells from infant umbilical cord tissue. \nSlides
URL:https://echochildren.org/event/braun-boyle-associations-of-early-life-pfas-exposure-with-child-and-adolescent-health/
END:VEVENT
END:VCALENDAR