BEGIN:VCALENDAR
VERSION:2.0
PRODID:-//ECHO - ECPv6.15.20//NONSGML v1.0//EN
CALSCALE:GREGORIAN
METHOD:PUBLISH
X-ORIGINAL-URL:https://echochildren.org
X-WR-CALDESC:Events for ECHO
REFRESH-INTERVAL;VALUE=DURATION:PT1H
X-Robots-Tag:noindex
X-PUBLISHED-TTL:PT1H
BEGIN:VTIMEZONE
TZID:America/New_York
BEGIN:DAYLIGHT
TZOFFSETFROM:-0500
TZOFFSETTO:-0400
TZNAME:EDT
DTSTART:20180311T070000
END:DAYLIGHT
BEGIN:STANDARD
TZOFFSETFROM:-0400
TZOFFSETTO:-0500
TZNAME:EST
DTSTART:20181104T060000
END:STANDARD
BEGIN:DAYLIGHT
TZOFFSETFROM:-0500
TZOFFSETTO:-0400
TZNAME:EDT
DTSTART:20190310T070000
END:DAYLIGHT
BEGIN:STANDARD
TZOFFSETFROM:-0400
TZOFFSETTO:-0500
TZNAME:EST
DTSTART:20191103T060000
END:STANDARD
BEGIN:DAYLIGHT
TZOFFSETFROM:-0500
TZOFFSETTO:-0400
TZNAME:EDT
DTSTART:20200308T070000
END:DAYLIGHT
BEGIN:STANDARD
TZOFFSETFROM:-0400
TZOFFSETTO:-0500
TZNAME:EST
DTSTART:20201101T060000
END:STANDARD
BEGIN:DAYLIGHT
TZOFFSETFROM:-0500
TZOFFSETTO:-0400
TZNAME:EDT
DTSTART:20210314T070000
END:DAYLIGHT
BEGIN:STANDARD
TZOFFSETFROM:-0400
TZOFFSETTO:-0500
TZNAME:EST
DTSTART:20211107T060000
END:STANDARD
BEGIN:DAYLIGHT
TZOFFSETFROM:-0500
TZOFFSETTO:-0400
TZNAME:EDT
DTSTART:20220313T070000
END:DAYLIGHT
BEGIN:STANDARD
TZOFFSETFROM:-0400
TZOFFSETTO:-0500
TZNAME:EST
DTSTART:20221106T060000
END:STANDARD
END:VTIMEZONE
BEGIN:VEVENT
DTSTART;TZID=America/New_York:20210413T130000
DTEND;TZID=America/New_York:20210413T140000
DTSTAMP:20260421T115122
CREATED:20210326T183949Z
LAST-MODIFIED:20230614T191334Z
UID:3471-1618318800-1618322400@echochildren.org
SUMMARY:Dana Dabelea: Developmental Origins of Pediatric Obesity and Diabetes- What We Know and Don’t Know
DESCRIPTION:Developmental Origins of Pediatric Obesity and Diabetes- What We Know and Don’t Know\n\n\n\n\n\nSpeakers: \n \nDana Dabelea\, MD\, PhD \nProfessor of Epidemiology and Pediatrics\, and Director of the Lifecourse Epidemiology of Adiposity and Diabetes (LEAD) \nUniversity of Colorado at Denver \n  \n  \nSpeaker Bio: Dr. Dabelea\, MD\, PhD is Professor of Epidemiology and Pediatrics\, and Director of the Lifecourse Epidemiology of Adiposity and Diabetes (LEAD) Center at the University of Colorado Anschutz Medical Campus (UC AMC). She is a national leader in studies of the prenatal and postnatal developmental\, environmental and behavioral factors contributing to childhood obesity\, metabolic syndrome and diabetes\, and their consequences throughout the lifespan. Her experience includes perinatal\, pediatric and adult studies with community-based and clinic-based sampling\, and longitudinal follow-up. As Director on the LEAD Center she oversees several NIH and CDC -funded grants totaling a budget of over $ 18 million. Dr. Dabelea has a record of engaging and mentoring students\, fellows and junior faculty across many research projects. Dr. Dabelea is a recipient of the UC AMC Graduate School’s Mentoring Award\, the American Diabetes Association Kelly West Award for Epidemiology\, and UC System Elizabeth D. Gee Memorial Lectureship Award\, which recognizes and honors an outstanding faculty member of the University of Colorado for efforts to advance women in academia\, interdisciplinary scholarly contributions\, and distinguished teaching. She received her MD degree (1990) and her PhD degree in Clinical Sciences (1997) from the University of Medicine and Pharmacy Timisoara\, Romania. \nDate: Tuesday\, April 13 \, 1 to 2pm \nSlides\n 
URL:https://echochildren.org/event/dana-dabelea-developmental-origins-of-pediatric-obesity-and-diabetes-what-we-know-and-dont-know/
LOCATION:WebEx
CATEGORIES:obesity,Publications
END:VEVENT
BEGIN:VEVENT
DTSTART;TZID=America/New_York:20201209T130000
DTEND;TZID=America/New_York:20201209T140000
DTSTAMP:20260421T115122
CREATED:20201123T193553Z
LAST-MODIFIED:20220602T155406Z
UID:2746-1607518800-1607522400@echochildren.org
SUMMARY:Ann Davis: “Updates to a Trial as a Result of COVID:  iAmHealthy in the ISPCTN”
DESCRIPTION:Updates to a Trial as a Result of COVID: iAmHealthy in the ISPCTN\n\n\n\n\n\nSpeakers: \n \nAnn Davis\, Ph.D.\, MPH\, ABPP \nUniversity of Kansas Medical Center \n  \n  \n  \nSpeaker Bio:  \nAnn Davis graduated from the University of Kansas with degrees in both Psychology and English. She go her PhD in Clinical Psychology at Western Michigan University\, and completed her psychology internship at Father Flanagan’s Boys Home in Nebraska. After a two year research fellowship at Cincinnati Children’s Hospital Medical Center she returned to her native home in Kansas\, to accept a faculty position at the University of Kansas Medical Center in the Department of Pediatrics. \nAnn founded the pediatric obesity program at KUMC called Healthy Hawks\, studying healthy lifestyles in children. Ann and her team have attained funding from the National Institutes of Health and other federal agencies. \nDate: Wednesday\, December 9\, 1 to 2pm \nSlides
URL:https://echochildren.org/event/ann-davis-updates-to-a-trial-as-a-result-of-covid-iamhealthy-in-the-ispctn/
LOCATION:WebEx
CATEGORIES:obesity
END:VEVENT
BEGIN:VEVENT
DTSTART;TZID=America/New_York:20191015T130000
DTEND;TZID=America/New_York:20191015T140000
DTSTAMP:20260421T115122
CREATED:20190827T142507Z
LAST-MODIFIED:20220602T182441Z
UID:1612-1571144400-1571148000@echochildren.org
SUMMARY:Leo Trasande: Endocrine Disrupting Chemicals: A Costly Public Health Threat with Opportunities for Policy Prevention
DESCRIPTION:Endocrine Disrupting Chemicals: A Costly Public Health Threat with Opportunities for Policy Prevention\n\n\n\n\n\nSpeaker: \nLeo Trasande\, MD\, MPP \nNYU School of Medicine\, Professor of Pediatrics \n  \n  \n  \nAbout the Speaker:\nLeonardo Trasande\, MD\, MPP is a professor in the departments of Pediatrics\, Environmental Medicine\, and Public Health at New York University\, and is a leader in children’s environmental health researcher. His research focuses on the roles of environmental exposures in childhood obesity\, and on the economic costs of failing to address these environmental factors to prevent diseases in children proactively. \nDr. Trasande received his bachelors\, medical\, and public policy degrees from Harvard University. He also completed the Boston Combined Residency in Pediatrics and a legislative fellowship in the Office of Senator Hillary Rodham Clinton. \nOutcome Areas: Obesity; Neurodevelopment \nDate: Tuesday\, October 15\, 1 to 2pm \nSlides
URL:https://echochildren.org/event/leo-trasande-endocrine-disrupting-chemicals-a-costly-public-health-threat-with-opportunities-for-policy-prevention/
LOCATION:WebEx
CATEGORIES:environmental,obesity
END:VEVENT
END:VCALENDAR