BEGIN:VCALENDAR
VERSION:2.0
PRODID:-//ECHO - ECPv6.15.20//NONSGML v1.0//EN
CALSCALE:GREGORIAN
METHOD:PUBLISH
X-WR-CALNAME:ECHO
X-ORIGINAL-URL:https://echochildren.org
X-WR-CALDESC:Events for ECHO
REFRESH-INTERVAL;VALUE=DURATION:PT1H
X-Robots-Tag:noindex
X-PUBLISHED-TTL:PT1H
BEGIN:VTIMEZONE
TZID:America/New_York
BEGIN:DAYLIGHT
TZOFFSETFROM:-0500
TZOFFSETTO:-0400
TZNAME:EDT
DTSTART:20210314T070000
END:DAYLIGHT
BEGIN:STANDARD
TZOFFSETFROM:-0400
TZOFFSETTO:-0500
TZNAME:EST
DTSTART:20211107T060000
END:STANDARD
BEGIN:DAYLIGHT
TZOFFSETFROM:-0500
TZOFFSETTO:-0400
TZNAME:EDT
DTSTART:20220313T070000
END:DAYLIGHT
BEGIN:STANDARD
TZOFFSETFROM:-0400
TZOFFSETTO:-0500
TZNAME:EST
DTSTART:20221106T060000
END:STANDARD
BEGIN:DAYLIGHT
TZOFFSETFROM:-0500
TZOFFSETTO:-0400
TZNAME:EDT
DTSTART:20230312T070000
END:DAYLIGHT
BEGIN:STANDARD
TZOFFSETFROM:-0400
TZOFFSETTO:-0500
TZNAME:EST
DTSTART:20231105T060000
END:STANDARD
END:VTIMEZONE
BEGIN:VEVENT
DTSTART;TZID=America/New_York:20221012T130000
DTEND;TZID=America/New_York:20221012T140000
DTSTAMP:20260421T114619
CREATED:20220914T123129Z
LAST-MODIFIED:20230614T190236Z
UID:8791-1665579600-1665583200@echochildren.org
SUMMARY:Julie Herbstman: Understanding Changes in Environmental Exposures Over Time in ECHO and Impacts on Children's Health
DESCRIPTION:Julie Herbstman: Understanding Changes in Environmental Exposures Over Time in ECHO and Impacts on Children’s Health \nDiscovery Summary \nKey Takeaways: \n\nLongitudinal studies\, like those at the Columbia Center for Children’s Environmental Health (CCCEH)\, can look at exposures over time\, which can be used to identify new research areas\, inform new policies aimed at reducing these exposures\, and help assess the effectiveness of those policy changes.\nThere are many opportunities within ECHO research to examine ongoing trends in environmental exposures that can inform programs\, practices\, and policies aimed at reducing exposures.\nBecause participants in ECHO have been recruited over time and across a large geographic area\, researchers can leverage ECHO’s robust data to understand the potential impact of current and future policies and interventions on children’s health outcomes.\n\n \nSpeaker: \nJulie Herbstman\, PhD\, ScM \nDepartment of Environmental Health Sciences\nColumbia Center for Children’s Environmental Health (CCCEH) \n  \nSpeaker Bio: \nDr. Herbstman is a Professor in the Department of Environmental Health Sciences and the director of the Columbia Center for Children’s Environmental Health (CCCEH). Beginning 1998\, the CCCEH is the home to three longitudinal birth cohort studies of children born in New York City\, with the goal of understanding the impacts of early life urban environmental chemical and social exposures on child health. As an environmental and molecular epidemiologist\, Dr. Herbstman studies the pathways between these urban exposures and health outcomes\, with a particular focus on neurodevelopment. She also focuses on research translation\, ensuring that the scientific gains are effectively communicated to and shared with both policymakers and communities. \nSlides\nDate: Wednesday\, October 12th\, 1 to 2pm ET
URL:https://echochildren.org/event/herbstman-understanding-changes-in-environmental-exposures-over-time-in-echo-and-impacts-on-childrens-health/
END:VEVENT
END:VCALENDAR